OziExplorer Map Data File Version 2.2
050k--m47-012-2.gif
050k--m47-012-2.gif
1 ,Map Code,
Pulkovo 1942 (2),WGS 84, 0.0000, 0.0000,WGS 84
Reserved 1
Reserved 2
Magnetic Variation,,,E
Map Projection,Transverse Mercator,PolyCal,No,AutoCalOnly,No,BSBUseWPX,No
Point01,xy, 70, 76,in, deg, 52, 0.0000,N, 101, 45.0000,E, grid, , , ,N
Point02,xy, 1411, 74,ex, deg, 52, 0.0000,N, 101, 52.5000,E, grid, , , ,N
Point03,xy, 2758, 72,in, deg, 52, 0.0000,N, 102, 0.0000,E, grid, , , ,N
Point04,xy, 67, 1524,in, deg, 51, 55.0000,N, 101, 45.0000,E, grid, , , ,N
Point05,xy, 1419, 1520,in, deg, 51, 55.0000,N, 101, 52.5000,E, grid, , , ,N
Point06,xy, 2764, 1521,ex, deg, 51, 55.0000,N, 102, 0.0000,E, grid, , , ,N
Point07,xy, 67, 2973,in, deg, 51, 50.0000,N, 101, 45.0000,E, grid, , , ,N
Point08,xy, 1415, 2973,ex, deg, 51, 50.0000,N, 101, 52.5000,E, grid, , , ,N
Point09,xy, 2768, 2972,in, deg, 51, 50.0000,N, 102, 0.0000,E, grid, , , ,N
Point10,xy, , ,in, deg, , ,N, , ,W, grid, , , ,N
Point11,xy, , ,in, deg, , ,N, , ,W, grid, , , ,N
Point12,xy, , ,in, deg, , ,N, , ,W, grid, , , ,N
Point13,xy, , ,in, deg, , ,N, , ,W, grid, , , ,N
Point14,xy, , ,in, deg, , ,N, , ,W, grid, , , ,N
Point15,xy, , ,in, deg, , ,N, , ,W, grid, , , ,N
Point16,xy, , ,in, deg, , ,N, , ,W, grid, , , ,N
Point17,xy, , ,in, deg, , ,N, , ,W, grid, , , ,N
Point18,xy, , ,in, deg, , ,N, , ,W, grid, , , ,N
Point19,xy, , ,in, deg, , ,N, , ,W, grid, , , ,N
Point20,xy, , ,in, deg, , ,N, , ,W, grid, , , ,N
Point21,xy, , ,in, deg, , ,N, , ,W, grid, , , ,N
Point22,xy, , ,in, deg, , ,N, , ,W, grid, , , ,N
Point23,xy, , ,in, deg, , ,N, , ,W, grid, , , ,N
Point24,xy, , ,in, deg, , ,N, , ,W, grid, , , ,N
Point25,xy, , ,in, deg, , ,N, , ,W, grid, , , ,N
Point26,xy, , ,in, deg, , ,N, , ,W, grid, , , ,N
Point27,xy, , ,in, deg, , ,N, , ,W, grid, , , ,N
Point28,xy, , ,in, deg, , ,N, , ,W, grid, , , ,N
Point29,xy, , ,in, deg, , ,N, , ,W, grid, , , ,N
Point30,xy, , ,in, deg, , ,N, , ,W, grid, , , ,N
Projection Setup, 0.000000000, 99.000000000, 1.000000000, 500000.00, 0.00,,,,,
Map Feature = MF ; Map Comment = MC These follow if they exist
Track File = TF These follow if they exist
Moving Map Parameters = MM? These follow if they exist
MM0,Yes
MMPNUM,4
MMPXY,1,70,76
MMPXY,2,2758,72
MMPXY,3,2768,2972
MMPXY,4,67,2973
MMPLL,1, 101.750000, 52.000000
MMPLL,2, 102.000000, 52.000000
MMPLL,3, 102.000000, 51.833333
MMPLL,4, 101.750000, 51.833333
MM1B,6.081525
MOP,Map Open Position,0,0
IWH,Map Image Width/Height,2832,3042
