OziExplorer Map Data File Version 2.2
050k--k44-065-1.gif
050k--k44-065-1.gif
1 ,Map Code,
Pulkovo 1942 (2),WGS 84, 0.0000, 0.0000,WGS 84
Reserved 1
Reserved 2
Magnetic Variation,,,E
Map Projection,Transverse Mercator,PolyCal,No,AutoCalOnly,No,BSBUseWPX,No
Point01,xy, 68, 58,in, deg, 42, 20.0000,N, 80, 0.0000,E, grid, , , ,N
Point02,xy, 1674, 63,ex, deg, 42, 20.0000,N, 80, 7.5000,E, grid, , , ,N
Point03,xy, 3279, 66,in, deg, 42, 20.0000,N, 80, 15.0000,E, grid, , , ,N
Point04,xy, 64, 1506,in, deg, 42, 15.0000,N, 80, 0.0000,E, grid, , , ,N
Point05,xy, 1673, 1511,in, deg, 42, 15.0000,N, 80, 7.5000,E, grid, , , ,N
Point06,xy, 3278, 1514,in, deg, 42, 15.0000,N, 80, 15.0000,E, grid, , , ,N
Point07,xy, 60, 2956,in, deg, 42, 10.0000,N, 80, 0.0000,E, grid, , , ,N
Point08,xy, 1661, 2960,ex, deg, 42, 10.0000,N, 80, 7.5000,E, grid, , , ,N
Point09,xy, 3280, 2963,in, deg, 42, 10.0000,N, 80, 15.0000,E, grid, , , ,N
Point10,xy, , ,in, deg, , ,N, , ,W, grid, , , ,N
Point11,xy, , ,in, deg, , ,N, , ,W, grid, , , ,N
Point12,xy, , ,in, deg, , ,N, , ,W, grid, , , ,N
Point13,xy, , ,in, deg, , ,N, , ,W, grid, , , ,N
Point14,xy, , ,in, deg, , ,N, , ,W, grid, , , ,N
Point15,xy, , ,in, deg, , ,N, , ,W, grid, , , ,N
Point16,xy, , ,in, deg, , ,N, , ,W, grid, , , ,N
Point17,xy, , ,in, deg, , ,N, , ,W, grid, , , ,N
Point18,xy, , ,in, deg, , ,N, , ,W, grid, , , ,N
Point19,xy, , ,in, deg, , ,N, , ,W, grid, , , ,N
Point20,xy, , ,in, deg, , ,N, , ,W, grid, , , ,N
Point21,xy, , ,in, deg, , ,N, , ,W, grid, , , ,N
Point22,xy, , ,in, deg, , ,N, , ,W, grid, , , ,N
Point23,xy, , ,in, deg, , ,N, , ,W, grid, , , ,N
Point24,xy, , ,in, deg, , ,N, , ,W, grid, , , ,N
Point25,xy, , ,in, deg, , ,N, , ,W, grid, , , ,N
Point26,xy, , ,in, deg, , ,N, , ,W, grid, , , ,N
Point27,xy, , ,in, deg, , ,N, , ,W, grid, , , ,N
Point28,xy, , ,in, deg, , ,N, , ,W, grid, , , ,N
Point29,xy, , ,in, deg, , ,N, , ,W, grid, , , ,N
Point30,xy, , ,in, deg, , ,N, , ,W, grid, , , ,N
Projection Setup, 0.000000000, 81.000000000, 1.000000000, 500000.00, 0.00,,,,,
Map Feature = MF ; Map Comment = MC These follow if they exist
Track File = TF These follow if they exist
Moving Map Parameters = MM? These follow if they exist
MM0,Yes
MMPNUM,4
MMPXY,1,68,58
MMPXY,2,3279,66
MMPXY,3,3280,2963
MMPXY,4,60,2956
MMPLL,1, 80.000000, 42.333333
MMPLL,2, 80.250000, 42.333333
MMPLL,3, 80.250000, 42.166667
MMPLL,4, 80.000000, 42.166667
MM1B,6.146179
MOP,Map Open Position,0,0
IWH,Map Image Width/Height,3339,3010
