OziExplorer Map Data File Version 2.2
050k--k44-052-3.gif
050k--k44-052-3.gif
1 ,Map Code,
Pulkovo 1942 (2),WGS 84, 0.0000, 0.0000,WGS 84
Reserved 1
Reserved 2
Magnetic Variation,,,E
Map Projection,Transverse Mercator,PolyCal,No,AutoCalOnly,No,BSBUseWPX,No
Point01,xy, 63, 66,in, deg, 42, 30.0000,N, 79, 30.0000,E, grid, , , ,N
Point02,xy, 1664, 61,ex, deg, 42, 30.0000,N, 79, 37.5000,E, grid, , , ,N
Point03,xy, 3267, 58,in, deg, 42, 30.0000,N, 79, 45.0000,E, grid, , , ,N
Point04,xy, 65, 1515,in, deg, 42, 25.0000,N, 79, 30.0000,E, grid, , , ,N
Point05,xy, 1670, 1511,in, deg, 42, 25.0000,N, 79, 37.5000,E, grid, , , ,N
Point06,xy, 3272, 1505,in, deg, 42, 25.0000,N, 79, 45.0000,E, grid, , , ,N
Point07,xy, 65, 2966,in, deg, 42, 20.0000,N, 79, 30.0000,E, grid, , , ,N
Point08,xy, 1657, 2961,ex, deg, 42, 20.0000,N, 79, 37.5000,E, grid, , , ,N
Point09,xy, 3278, 2955,in, deg, 42, 20.0000,N, 79, 45.0000,E, grid, , , ,N
Point10,xy, , ,in, deg, , ,N, , ,W, grid, , , ,N
Point11,xy, , ,in, deg, , ,N, , ,W, grid, , , ,N
Point12,xy, , ,in, deg, , ,N, , ,W, grid, , , ,N
Point13,xy, , ,in, deg, , ,N, , ,W, grid, , , ,N
Point14,xy, , ,in, deg, , ,N, , ,W, grid, , , ,N
Point15,xy, , ,in, deg, , ,N, , ,W, grid, , , ,N
Point16,xy, , ,in, deg, , ,N, , ,W, grid, , , ,N
Point17,xy, , ,in, deg, , ,N, , ,W, grid, , , ,N
Point18,xy, , ,in, deg, , ,N, , ,W, grid, , , ,N
Point19,xy, , ,in, deg, , ,N, , ,W, grid, , , ,N
Point20,xy, , ,in, deg, , ,N, , ,W, grid, , , ,N
Point21,xy, , ,in, deg, , ,N, , ,W, grid, , , ,N
Point22,xy, , ,in, deg, , ,N, , ,W, grid, , , ,N
Point23,xy, , ,in, deg, , ,N, , ,W, grid, , , ,N
Point24,xy, , ,in, deg, , ,N, , ,W, grid, , , ,N
Point25,xy, , ,in, deg, , ,N, , ,W, grid, , , ,N
Point26,xy, , ,in, deg, , ,N, , ,W, grid, , , ,N
Point27,xy, , ,in, deg, , ,N, , ,W, grid, , , ,N
Point28,xy, , ,in, deg, , ,N, , ,W, grid, , , ,N
Point29,xy, , ,in, deg, , ,N, , ,W, grid, , , ,N
Point30,xy, , ,in, deg, , ,N, , ,W, grid, , , ,N
Projection Setup, 0.000000000, 81.000000000, 1.000000000, 500000.00, 0.00,,,,,
Map Feature = MF ; Map Comment = MC These follow if they exist
Track File = TF These follow if they exist
Moving Map Parameters = MM? These follow if they exist
MM0,Yes
MMPNUM,4
MMPXY,1,63,66
MMPXY,2,3267,58
MMPXY,3,3278,2955
MMPXY,4,65,2966
MMPLL,1, 79.500000, 42.500000
MMPLL,2, 79.750000, 42.500000
MMPLL,3, 79.750000, 42.333333
MMPLL,4, 79.500000, 42.333333
MM1B,6.142098
MOP,Map Open Position,0,0
IWH,Map Image Width/Height,3346,3012
