OziExplorer Map Data File Version 2.2
100k--r42-133_134.gif
100k--r42-133_134.gif
1 ,Map Code,
Pulkovo 1942 (2),WGS 84, 0.0000, 0.0000,WGS 84
Reserved 1
Reserved 2
Magnetic Variation,,,E
Map Projection,Transverse Mercator,PolyCal,No,AutoCalOnly,No,BSBUseWPX,No
Point01,xy, 75, 17,in, deg, 68, 20.0000,N, 66, 0.0000,E, grid, , , ,N
Point02,xy, 1689, 13,in, deg, 68, 20.0000,N, 66, 30.0000,E, grid, , , ,N
Point03,xy, 3305, 7,in, deg, 68, 20.0000,N, 67, 0.0000,E, grid, , , ,N
Point04,xy, 66, 1464,in, deg, 68, 10.0000,N, 66, 0.0000,E, grid, , , ,N
Point05,xy, 1692, 1476,in, deg, 68, 10.0000,N, 66, 30.0000,E, grid, , , ,N
Point06,xy, 3308, 1465,in, deg, 68, 10.0000,N, 67, 0.0000,E, grid, , , ,N
Point07,xy, 45, 2923,in, deg, 68, 0.0000,N, 66, 0.0000,E, grid, , , ,N
Point08,xy, 1684, 2933,in, deg, 68, 0.0000,N, 66, 30.0000,E, grid, , , ,N
Point09,xy, 3321, 2928,in, deg, 68, 0.0000,N, 67, 0.0000,E, grid, , , ,N
Point10,xy, , ,in, deg, , ,N, , ,W, grid, , , ,N
Point11,xy, , ,in, deg, , ,N, , ,W, grid, , , ,N
Point12,xy, , ,in, deg, , ,N, , ,W, grid, , , ,N
Point13,xy, , ,in, deg, , ,N, , ,W, grid, , , ,N
Point14,xy, , ,in, deg, , ,N, , ,W, grid, , , ,N
Point15,xy, , ,in, deg, , ,N, , ,W, grid, , , ,N
Point16,xy, , ,in, deg, , ,N, , ,W, grid, , , ,N
Point17,xy, , ,in, deg, , ,N, , ,W, grid, , , ,N
Point18,xy, , ,in, deg, , ,N, , ,W, grid, , , ,N
Point19,xy, , ,in, deg, , ,N, , ,W, grid, , , ,N
Point20,xy, , ,in, deg, , ,N, , ,W, grid, , , ,N
Point21,xy, , ,in, deg, , ,N, , ,W, grid, , , ,N
Point22,xy, , ,in, deg, , ,N, , ,W, grid, , , ,N
Point23,xy, , ,in, deg, , ,N, , ,W, grid, , , ,N
Point24,xy, , ,in, deg, , ,N, , ,W, grid, , , ,N
Point25,xy, , ,in, deg, , ,N, , ,W, grid, , , ,N
Point26,xy, , ,in, deg, , ,N, , ,W, grid, , , ,N
Point27,xy, , ,in, deg, , ,N, , ,W, grid, , , ,N
Point28,xy, , ,in, deg, , ,N, , ,W, grid, , , ,N
Point29,xy, , ,in, deg, , ,N, , ,W, grid, , , ,N
Point30,xy, , ,in, deg, , ,N, , ,W, grid, , , ,N
Projection Setup, 0.000000000, 69.000000000, 1.000000000, 500000.00, 0.00,,,,,
Map Feature = MF ; Map Comment = MC These follow if they exist
Track File = TF These follow if they exist
Moving Map Parameters = MM? These follow if they exist
MM0,Yes
MMPNUM,4
MMPXY,1,75,17
MMPXY,2,3305,7
MMPXY,3,3321,2928
MMPXY,4,45,2923
MMPLL,1, 66.000000, 68.333333
MMPLL,2, 67.000000, 68.333333
MMPLL,3, 67.000000, 68.000000
MMPLL,4, 66.000000, 68.000000
MM1B,12.576479
MOP,Map Open Position,0,0
IWH,Map Image Width/Height,3375,2942
