OziExplorer Map Data File Version 2.1
100k--q41-023_024.gif
D:\MyDocSK\POHOD\Pohod2009\ski2009\map\100k--q41-023_024.gif
1 TIFF scale factor
Pulkovo 1942 (2),WGS 84, 0.0000, 0.0000,WGS 84
Reserved 1
Reserved 2
Magnetic Variation,,,E
Map Projection,Transverse Mercator,PolyCal,No,AutoCalOnly,No,BSBUseWPX,No
Point01,xy, 114, 89,in, deg, 67,40.00002,N, 65, 0,E, grid, , , ,N
Point02,xy, 1760, 96,in, deg, 67,40.00002,N, 65, 30,E, grid, , , ,N
Point03,xy, 3410, 90,in, deg, 67,40.00002,N, 66, 0,E, grid, , , ,N
Point04,xy, 102, 1542,in, deg, 67, 30,N, 65, 0,E, grid, , , ,N
Point05,xy, 1760, 1544,ex, deg, 67, 30,N, 65, 30,E, grid, , , ,N
Point06,xy, 3424, 1545,ex, deg, 67, 30,N, 66, 0,E, grid, , , ,N
Point07,xy, 87, 3000,in, deg, 67,19.99998,N, 65, 0,E, grid, , , ,N
Point08,xy, 1763, 3007,in, deg, 67,19.99998,N, 65, 30,E, grid, , , ,N
Point09,xy, 3435, 3001,in, deg, 67,19.99998,N, 66, 0,E, grid, , , ,N
Point10,xy, , ,in, deg, , ,, , ,, grid, , , ,
Point11,xy, , ,in, deg, , ,, , ,, grid, , , ,
Point12,xy, , ,in, deg, , ,, , ,, grid, , , ,
Point13,xy, , ,in, deg, , ,, , ,, grid, , , ,
Point14,xy, , ,in, deg, , ,, , ,, grid, , , ,
Point15,xy, , ,in, deg, , ,, , ,, grid, , , ,
Point16,xy, , ,in, deg, , ,, , ,, grid, , , ,
Point17,xy, , ,in, deg, , ,, , ,, grid, , , ,
Point18,xy, , ,in, deg, , ,, , ,, grid, , , ,
Point19,xy, , ,in, deg, , ,, , ,, grid, , , ,
Point20,xy, , ,in, deg, , ,, , ,, grid, , , ,
Point21,xy, , ,in, deg, , ,, , ,, grid, , , ,
Point22,xy, , ,in, deg, , ,, , ,, grid, , , ,
Point23,xy, , ,in, deg, , ,, , ,, grid, , , ,
Point24,xy, , ,in, deg, , ,, , ,, grid, , , ,
Point25,xy, , ,in, deg, , ,, , ,, grid, , , ,
Point26,xy, , ,in, deg, , ,, , ,, grid, , , ,
Point27,xy, , ,in, deg, , ,, , ,, grid, , , ,
Point28,xy, , ,in, deg, , ,, , ,, grid, , , ,
Point29,xy, , ,in, deg, , ,, , ,, grid, , , ,
Point30,xy, , ,in, deg, , ,, , ,, grid, , , ,
Projection Setup, 0.000000000, 63.000000000, 1.000000000, 500000.00, 0.00,,,,,
Map Feature = MF ; Map Comment = MC These follow if they exist
Track File = TF These follow if they exist
Moving Map Parameters = MM? These follow if they exist
MM0,Yes
MMPNUM,4
MMPXY,1,109,17
MMPXY,2,3414,11
MMPXY,3,3437,2910
MMPXY,4,81,2920
MMPLL,1, 64.998791, 67.674828
MMPLL,2, 66.001222, 67.675707
MMPLL,3, 66.001039, 67.343765
MMPLL,4, 64.997285, 67.342383
MM1B,12.848318
MOP,Map Open Position,0,0
IWH,Map Image Width/Height,3528,3085
